BEGIN:VCALENDAR
VERSION:2.0
PRODID:-//Kino Tuškanac//Filmski programi//HR
BEGIN:VEVENT
UID:105e29beffb7ee504d15f60485337cac@kinotuskanac.hr
DTSTAMP:20260423T074507Z
DTSTART:20160218T190000
DTEND:20160218T210000
SUMMARY:Vrisak
LOCATION:Kino Tuškanac
DESCRIPTION:Scream, SAD, 1996 | Mjesto prikazivanja filma: Kino Forum (SD Stjepan Radić, Jarunska ul. 2) R: Wes Craven
END:VEVENT
END:VCALENDAR