BEGIN:VCALENDAR
VERSION:2.0
PRODID:-//Kino Tuškanac//Filmski programi//HR
BEGIN:VEVENT
UID:049d3c13c096db9f0ebc6a8953995968@kinotuskanac.hr
DTSTAMP:20260423T045501Z
DTSTART:20160219T190000
DTEND:20160219T210000
SUMMARY:Vrisak 3
LOCATION:Kino Tuškanac
DESCRIPTION:Scream 3, SAD, 2000 | Mjesto prikazivanja filma: Kino Forum (SD Stjepan Radić, Jarunska ul. 2) R: Wes Craven
END:VEVENT
END:VCALENDAR