BEGIN:VCALENDAR
VERSION:2.0
PRODID:-//Kino Tuškanac//Filmski programi//HR
BEGIN:VEVENT
UID:d84694857011ea111aef5638f9f9bf1c@kinotuskanac.hr
DTSTAMP:20260423T045731Z
DTSTART:20160220T210000
DTEND:20160220T230000
SUMMARY:Vrisak 3
LOCATION:Kino Tuškanac
DESCRIPTION:Scream 3, SAD, 2000 | Mjesto prikazivanja filma: Kino Forum (SD Stjepan Radić, Jarunska ul. 2) R: Wes Craven
END:VEVENT
END:VCALENDAR