BEGIN:VCALENDAR
VERSION:2.0
PRODID:-//Kino Tuškanac//Filmski programi//HR
BEGIN:VEVENT
UID:103e21d7559a9bd82ab7ce510fa25a43@kinotuskanac.hr
DTSTAMP:20260421T164433Z
DTSTART:20160305T190000
DTEND:20160305T210000
SUMMARY:Slatki život
LOCATION:Kino Tuškanac
DESCRIPTION:La dolce vita, Italija, Francuska, 1960 R: Federico Fellini
END:VEVENT
END:VCALENDAR