BEGIN:VCALENDAR
VERSION:2.0
PRODID:-//Kino Tuškanac//Filmski programi//HR
BEGIN:VEVENT
UID:7d500e09ff13282bb288e4f831366808@kinotuskanac.hr
DTSTAMP:20260425T233623Z
DTSTART:20160403T190000
DTEND:20160403T210000
SUMMARY:Tit Andronik
LOCATION:Kino Tuškanac
DESCRIPTION:Titus Andronicus, Globe Theatre, Velika Britanija, 2014 R: Lucy Bailey
END:VEVENT
END:VCALENDAR