BEGIN:VCALENDAR
VERSION:2.0
PRODID:-//Kino Tuškanac//Filmski programi//HR
BEGIN:VEVENT
UID:88aa5442ed7c9dd7280e0f245da63c0e@kinotuskanac.hr
DTSTAMP:20260419T154338Z
DTSTART:20160315T190000
DTEND:20160315T210000
SUMMARY:Put (1982)
LOCATION:Kino Tuškanac
DESCRIPTION:Yol, Turska, 1982 R: Yilmaz Güney, Şerif Gören
END:VEVENT
END:VCALENDAR