BEGIN:VCALENDAR
VERSION:2.0
PRODID:-//Kino Tuškanac//Filmski programi//HR
BEGIN:VEVENT
UID:b490ec9b8adffba34d555c9208d2c666@kinotuskanac.hr
DTSTAMP:20260421T153934Z
DTSTART:20160322T190000
DTEND:20160322T210000
SUMMARY:Marketa Lazarová
LOCATION:Kino Tuškanac
DESCRIPTION:Čehoslovačka, 1967 R: František Vláčil
END:VEVENT
END:VCALENDAR