BEGIN:VCALENDAR
VERSION:2.0
PRODID:-//Kino Tuškanac//Filmski programi//HR
BEGIN:VEVENT
UID:f50d56fda6176d2937353ffa1534dffa@kinotuskanac.hr
DTSTAMP:20260420T142049Z
DTSTART:20160329T190000
DTEND:20160329T210000
SUMMARY:Soba
LOCATION:Kino Tuškanac
DESCRIPTION:La chambre, 1972 R: Chantal Akerman
END:VEVENT
END:VCALENDAR