BEGIN:VCALENDAR
VERSION:2.0
PRODID:-//Kino Tuškanac//Filmski programi//HR
BEGIN:VEVENT
UID:22cf01cfa7d57fa95ca813194a7db328@kinotuskanac.hr
DTSTAMP:20260420T172002Z
DTSTART:20160329T191500
DTEND:20160329T211500
SUMMARY:Ja, ti, on, ona
LOCATION:Kino Tuškanac
DESCRIPTION:Je, tu, il, elle, 1974. R: Chantal Akerman
END:VEVENT
END:VCALENDAR