BEGIN:VCALENDAR
VERSION:2.0
PRODID:-//Kino Tuškanac//Filmski programi//HR
BEGIN:VEVENT
UID:ff601c0373becfa95d6b57ffcc9e1bc4@kinotuskanac.hr
DTSTAMP:20260420T172002Z
DTSTART:20160331T190000
DTEND:20160331T210000
SUMMARY:S istoka
LOCATION:Kino Tuškanac
DESCRIPTION:D’est, Francuska,  Belgija, 1993 R: Chantal Akerman
END:VEVENT
END:VCALENDAR