BEGIN:VCALENDAR
VERSION:2.0
PRODID:-//Kino Tuškanac//Filmski programi//HR
BEGIN:VEVENT
UID:9199e2dc1b4f63592745ae89f76421ac@kinotuskanac.hr
DTSTAMP:20260419T125621Z
DTSTART:20160426T190000
DTEND:20160426T210000
SUMMARY:Kužiš stari moj
LOCATION:Kino Tuškanac
DESCRIPTION:Jugoslavija, 1973 R: Vanča Kljaković
END:VEVENT
END:VCALENDAR