BEGIN:VCALENDAR
VERSION:2.0
PRODID:-//Kino Tuškanac//Filmski programi//HR
BEGIN:VEVENT
UID:2f2b2573a1440029677dea972e5bb309@kinotuskanac.hr
DTSTAMP:20260424T234031Z
DTSTART:20160427T190000
DTEND:20160427T210000
SUMMARY:Domoljub
LOCATION:Kino Tuškanac
DESCRIPTION:Isänmaallinen mies, Finska,  Hrvatska, 2013 R: Arto Halonen
END:VEVENT
END:VCALENDAR