BEGIN:VCALENDAR
VERSION:2.0
PRODID:-//Kino Tuškanac//Filmski programi//HR
BEGIN:VEVENT
UID:a65e20633f9cd757f1ff31143a1c2404@kinotuskanac.hr
DTSTAMP:20260424T182634Z
DTSTART:20160430T190000
DTEND:20160430T210000
SUMMARY:Nebeski banditi
LOCATION:Kino Tuškanac
DESCRIPTION:Sky Bandits (USA: Gunbus), USA, 1986 R: Zoran Perišić
END:VEVENT
END:VCALENDAR