BEGIN:VCALENDAR
VERSION:2.0
PRODID:-//Kino Tuškanac//Filmski programi//HR
BEGIN:VEVENT
UID:6932fb673a204ed6c5e4ed705337673c@kinotuskanac.hr
DTSTAMP:20260424T182737Z
DTSTART:20160502T190000
DTEND:20160502T210000
SUMMARY:Banović Strahinja
LOCATION:Kino Tuškanac
DESCRIPTION:Hrvatska, 1981 R: Vatroslav Mimica
END:VEVENT
END:VCALENDAR