BEGIN:VCALENDAR
VERSION:2.0
PRODID:-//Kino Tuškanac//Filmski programi//HR
BEGIN:VEVENT
UID:1dec4cdacd93f307a5a1f5caa496dbb0@kinotuskanac.hr
DTSTAMP:20260423T134548Z
DTSTART:20160504T190000
DTEND:20160504T210000
SUMMARY:Lea i Darija
LOCATION:Kino Tuškanac
DESCRIPTION:Hrvatska, 2011 R: Branko Ivanda
END:VEVENT
END:VCALENDAR