BEGIN:VCALENDAR
VERSION:2.0
PRODID:-//Kino Tuškanac//Filmski programi//HR
BEGIN:VEVENT
UID:29a0ddd106f009fe89efc354e9dec0b3@kinotuskanac.hr
DTSTAMP:20260420T115630Z
DTSTART:20160404T170000
DTEND:20160404T190000
SUMMARY:Spotlight
LOCATION:Kino Tuškanac
DESCRIPTION:SAD, 2015 R: Tom McCarthy
END:VEVENT
END:VCALENDAR