BEGIN:VCALENDAR
VERSION:2.0
PRODID:-//Kino Tuškanac//Filmski programi//HR
BEGIN:VEVENT
UID:a3cd93dff68bdc07ce0936d7c970399c@kinotuskanac.hr
DTSTAMP:20260420T115630Z
DTSTART:20160406T170000
DTEND:20160406T190000
SUMMARY:Spotlight
LOCATION:Kino Tuškanac
DESCRIPTION:SAD, 2015 R: Tom McCarthy
END:VEVENT
END:VCALENDAR