BEGIN:VCALENDAR
VERSION:2.0
PRODID:-//Kino Tuškanac//Filmski programi//HR
BEGIN:VEVENT
UID:414262a753707ea134e23d24fe181aa3@kinotuskanac.hr
DTSTAMP:20260420T115631Z
DTSTART:20160418T170000
DTEND:20160418T190000
SUMMARY:Spotlight
LOCATION:Kino Tuškanac
DESCRIPTION:SAD, 2015 R: Tom McCarthy
END:VEVENT
END:VCALENDAR