BEGIN:VCALENDAR
VERSION:2.0
PRODID:-//Kino Tuškanac//Filmski programi//HR
BEGIN:VEVENT
UID:b4ab6a6e1db4020ff954e3a7127f62b2@kinotuskanac.hr
DTSTAMP:20260420T115928Z
DTSTART:20160420T170000
DTEND:20160420T190000
SUMMARY:Spotlight
LOCATION:Kino Tuškanac
DESCRIPTION:SAD, 2015 R: Tom McCarthy
END:VEVENT
END:VCALENDAR