BEGIN:VCALENDAR
VERSION:2.0
PRODID:-//Kino Tuškanac//Filmski programi//HR
BEGIN:VEVENT
UID:da721cf60a095b7ce2be0974c9d24914@kinotuskanac.hr
DTSTAMP:20260421T113704Z
DTSTART:20160507T110000
DTEND:20160507T130000
SUMMARY:Transilvanija 2
LOCATION:Kino Tuškanac
DESCRIPTION:Hotel Transylvania 2, USA, 2015 R: Genndy Tartakovsky
END:VEVENT
END:VCALENDAR