BEGIN:VCALENDAR
VERSION:2.0
PRODID:-//Kino Tuškanac//Filmski programi//HR
BEGIN:VEVENT
UID:756c3415a35387ea00988ebf6f549f56@kinotuskanac.hr
DTSTAMP:20260422T111528Z
DTSTART:20160506T190000
DTEND:20160506T210000
SUMMARY:Čovjek koji je pao na zemlju
LOCATION:Kino Tuškanac
DESCRIPTION:Man who fell to earth, 1976 R: Nicolas Roeg
END:VEVENT
END:VCALENDAR