BEGIN:VCALENDAR
VERSION:2.0
PRODID:-//Kino Tuškanac//Filmski programi//HR
BEGIN:VEVENT
UID:fc661bbab2ca144034be46bb8e6117ca@kinotuskanac.hr
DTSTAMP:20260422T080416Z
DTSTART:20160507T190000
DTEND:20160507T210000
SUMMARY:Prestiž
LOCATION:Kino Tuškanac
DESCRIPTION:The Prestige, SAD, 2006 R: Christopher Nolan
END:VEVENT
END:VCALENDAR