BEGIN:VCALENDAR
VERSION:2.0
PRODID:-//Kino Tuškanac//Filmski programi//HR
BEGIN:VEVENT
UID:ac2fdc2a536ff6ffa13bd303cca70dea@kinotuskanac.hr
DTSTAMP:20260420T114843Z
DTSTART:20040518T170000
DTEND:20040518T190000
SUMMARY:Čovjek koga treba ubiti
LOCATION:Kino Tuškanac
DESCRIPTION:Jugoslavija: Hrvatska, 1979 | Mjesto prikazivanja filma: MM Centar (Studentski centar, Savska cesta 25) R: Veljko Bulajić
END:VEVENT
END:VCALENDAR