BEGIN:VCALENDAR
VERSION:2.0
PRODID:-//Kino Tuškanac//Filmski programi//HR
BEGIN:VEVENT
UID:f29cf830dd7940343ea073287855d8ca@kinotuskanac.hr
DTSTAMP:20260422T112236Z
DTSTART:20160516T190000
DTEND:20160516T210000
SUMMARY:Čovjek koji je pao na zemlju
LOCATION:Kino Tuškanac
DESCRIPTION:Man who fell to earth, 1976 R: Nicolas Roeg
END:VEVENT
END:VCALENDAR