BEGIN:VCALENDAR
VERSION:2.0
PRODID:-//Kino Tuškanac//Filmski programi//HR
BEGIN:VEVENT
UID:2dcfd905fcb337ff40e016fd6de51736@kinotuskanac.hr
DTSTAMP:20260422T080008Z
DTSTART:20160519T190000
DTEND:20160519T210000
SUMMARY:Prestiž
LOCATION:Kino Tuškanac
DESCRIPTION:The Prestige, SAD, 2006 R: Christopher Nolan
END:VEVENT
END:VCALENDAR