BEGIN:VCALENDAR
VERSION:2.0
PRODID:-//Kino Tuškanac//Filmski programi//HR
BEGIN:VEVENT
UID:234e31be30973d4952d6a5f6e5d514b4@kinotuskanac.hr
DTSTAMP:20260419T141525Z
DTSTART:20040518T190000
DTEND:20040518T210000
SUMMARY:Sedam dana negdje drugdje
LOCATION:Kino Tuškanac
DESCRIPTION:Sept jours ailleurs, 1969 R: Marin Karmitz
END:VEVENT
END:VCALENDAR