BEGIN:VCALENDAR
VERSION:2.0
PRODID:-//Kino Tuškanac//Filmski programi//HR
BEGIN:VEVENT
UID:43766ae6a0fc51d79131f02b28f9fdc6@kinotuskanac.hr
DTSTAMP:20260421T134322Z
DTSTART:20160517T180000
DTEND:20160517T200000
SUMMARY:Ždralovi lete
LOCATION:Kino Tuškanac
DESCRIPTION:Letyat zhuravli, SSSR, 1957 R: Mihail Kalatozov
END:VEVENT
END:VCALENDAR