BEGIN:VCALENDAR
VERSION:2.0
PRODID:-//Kino Tuškanac//Filmski programi//HR
BEGIN:VEVENT
UID:be71e1566c0473c14d3b02444716e782@kinotuskanac.hr
DTSTAMP:20260420T052314Z
DTSTART:20040518T210000
DTEND:20040518T230000
SUMMARY:Ženski posli
LOCATION:Kino Tuškanac
DESCRIPTION:Une affaire de femmes, 1988 R: Claude Chabrol
END:VEVENT
END:VCALENDAR