BEGIN:VCALENDAR
VERSION:2.0
PRODID:-//Kino Tuškanac//Filmski programi//HR
BEGIN:VEVENT
UID:201c11143e9892cb8d59a4eefb9a1b42@kinotuskanac.hr
DTSTAMP:20260424T200007Z
DTSTART:20160614T210000
DTEND:20160614T230000
SUMMARY:Kratki utorak s Goranom Devićem
LOCATION:Kino Tuškanac
DESCRIPTION:
END:VEVENT
END:VCALENDAR