BEGIN:VCALENDAR
VERSION:2.0
PRODID:-//Kino Tuškanac//Filmski programi//HR
BEGIN:VEVENT
UID:0c0f6aeed54c187564309f42ebec921c@kinotuskanac.hr
DTSTAMP:20260419T225504Z
DTSTART:20160616T190000
DTEND:20160616T210000
SUMMARY:Strgnuta zavjesa
LOCATION:Kino Tuškanac
DESCRIPTION:Torn Curtain, SAD, 1966 R: Alfred Hitchcock
END:VEVENT
END:VCALENDAR