BEGIN:VCALENDAR
VERSION:2.0
PRODID:-//Kino Tuškanac//Filmski programi//HR
BEGIN:VEVENT
UID:b86221431f4d564dd107d6137b53f3df@kinotuskanac.hr
DTSTAMP:20260423T064053Z
DTSTART:20160618T203000
DTEND:20160618T223000
SUMMARY:Schmidtova filmska večer
LOCATION:Kino Tuškanac
DESCRIPTION:
END:VEVENT
END:VCALENDAR