BEGIN:VCALENDAR
VERSION:2.0
PRODID:-//Kino Tuškanac//Filmski programi//HR
BEGIN:VEVENT
UID:2b44d11a8f3236f67063475b97814ac6@kinotuskanac.hr
DTSTAMP:20260425T101933Z
DTSTART:20160527T170000
DTEND:20160527T190000
SUMMARY:Kirikou
LOCATION:Kino Tuškanac
DESCRIPTION:Kirikou et les hommes et les femmes, 2012 R: Michel Ocelot
END:VEVENT
END:VCALENDAR