BEGIN:VCALENDAR
VERSION:2.0
PRODID:-//Kino Tuškanac//Filmski programi//HR
BEGIN:VEVENT
UID:928c160f03ae27832a3904af57accf96@kinotuskanac.hr
DTSTAMP:20260419T141827Z
DTSTART:20160527T190000
DTEND:20160527T210000
SUMMARY:Pustinje svijeta: Sahara, Zelena Sahara i Namib
LOCATION:Kino Tuškanac
DESCRIPTION: R: Stipe Božić
END:VEVENT
END:VCALENDAR