BEGIN:VCALENDAR
VERSION:2.0
PRODID:-//Kino Tuškanac//Filmski programi//HR
BEGIN:VEVENT
UID:1870ff8c7d19dbee642eec3bc100a746@kinotuskanac.hr
DTSTAMP:20260425T031524Z
DTSTART:20160527T210000
DTEND:20160527T230000
SUMMARY:Danas
LOCATION:Kino Tuškanac
DESCRIPTION:TEY / Aujourd’hui, Francuska, Senegal, 2012 R: Alain Gomis
END:VEVENT
END:VCALENDAR