BEGIN:VCALENDAR
VERSION:2.0
PRODID:-//Kino Tuškanac//Filmski programi//HR
BEGIN:VEVENT
UID:c1af1f99973698847b6b2728e9c385df@kinotuskanac.hr
DTSTAMP:20260423T220502Z
DTSTART:20160604T180000
DTEND:20160604T200000
SUMMARY:Iris: Kraljica stila
LOCATION:Kino Tuškanac
DESCRIPTION:Iris, 2014 R: Albert Maysles
END:VEVENT
END:VCALENDAR