BEGIN:VCALENDAR
VERSION:2.0
PRODID:-//Kino Tuškanac//Filmski programi//HR
BEGIN:VEVENT
UID:f2e204ddb69795592e76ca461bf15e05@kinotuskanac.hr
DTSTAMP:20260425T233607Z
DTSTART:20160702T190000
DTEND:20160702T210000
SUMMARY:Tit Andronik
LOCATION:Kino Tuškanac
DESCRIPTION:Titus Andronicus, Globe Theatre, Velika Britanija, 2014 R: Lucy Bailey
END:VEVENT
END:VCALENDAR