BEGIN:VCALENDAR
VERSION:2.0
PRODID:-//Kino Tuškanac//Filmski programi//HR
BEGIN:VEVENT
UID:cc6305a75dbe74fdc39d4d8c86f6ad4c@kinotuskanac.hr
DTSTAMP:20260420T115657Z
DTSTART:20160905T190000
DTEND:20160905T210000
SUMMARY:Rat (2015)
LOCATION:Kino Tuškanac
DESCRIPTION:Krigen, Danska, 2015 R: Tobias Lindholm
END:VEVENT
END:VCALENDAR