BEGIN:VCALENDAR
VERSION:2.0
PRODID:-//Kino Tuškanac//Filmski programi//HR
BEGIN:VEVENT
UID:b1511630f82132f38900901427730726@kinotuskanac.hr
DTSTAMP:20260420T120718Z
DTSTART:20161011T170000
DTEND:20161011T190000
SUMMARY:Snjeguljica (2012)
LOCATION:Kino Tuškanac
DESCRIPTION:Blancanieves, Španjolska, 2012 R: Pablo Berger
END:VEVENT
END:VCALENDAR