BEGIN:VCALENDAR
VERSION:2.0
PRODID:-//Kino Tuškanac//Filmski programi//HR
BEGIN:VEVENT
UID:6373563cd07e9ca4daa34e8d9379ca21@kinotuskanac.hr
DTSTAMP:20260420T120703Z
DTSTART:20161014T170000
DTEND:20161014T190000
SUMMARY:Snjeguljica (2012)
LOCATION:Kino Tuškanac
DESCRIPTION:Blancanieves, Španjolska, 2012 R: Pablo Berger
END:VEVENT
END:VCALENDAR