BEGIN:VCALENDAR
VERSION:2.0
PRODID:-//Kino Tuškanac//Filmski programi//HR
BEGIN:VEVENT
UID:7ceb6a589ef3812599f69646e0052bef@kinotuskanac.hr
DTSTAMP:20260420T120428Z
DTSTART:20161017T170000
DTEND:20161017T190000
SUMMARY:Snjeguljica (2012)
LOCATION:Kino Tuškanac
DESCRIPTION:Blancanieves, Španjolska, 2012 R: Pablo Berger
END:VEVENT
END:VCALENDAR