BEGIN:VCALENDAR
VERSION:2.0
PRODID:-//Kino Tuškanac//Filmski programi//HR
BEGIN:VEVENT
UID:e3200d669ee0be6ccd90ae3bd6d0f802@kinotuskanac.hr
DTSTAMP:20260425T173400Z
DTSTART:20161029T170000
DTEND:20161029T190000
SUMMARY:Aura
LOCATION:Kino Tuškanac
DESCRIPTION:El aura, Argentina, 2005 R: Fabián Bielinsky
END:VEVENT
END:VCALENDAR