BEGIN:VCALENDAR
VERSION:2.0
PRODID:-//Kino Tuškanac//Filmski programi//HR
BEGIN:VEVENT
UID:636dc43e5f8323fbda6df2d0ad4e09ad@kinotuskanac.hr
DTSTAMP:20260426T033329Z
DTSTART:20040529T170000
DTEND:20040529T190000
SUMMARY:Sedmi kontinent (1966)
LOCATION:Kino Tuškanac
DESCRIPTION:1966 R: Dušan Vukotić
END:VEVENT
END:VCALENDAR