BEGIN:VCALENDAR
VERSION:2.0
PRODID:-//Kino Tuškanac//Filmski programi//HR
BEGIN:VEVENT
UID:791bd7b610c779a5314eb2c430497b73@kinotuskanac.hr
DTSTAMP:20260424T023737Z
DTSTART:20161013T170000
DTEND:20161013T190000
SUMMARY:U potrazi za Felom
LOCATION:Kino Tuškanac
DESCRIPTION:Finding Fela, SAD, 2014 R: Alex Gibney
END:VEVENT
END:VCALENDAR