BEGIN:VCALENDAR
VERSION:2.0
PRODID:-//Kino Tuškanac//Filmski programi//HR
BEGIN:VEVENT
UID:9e29fd6e9a403d0c8300358885371729@kinotuskanac.hr
DTSTAMP:20260420T144334Z
DTSTART:20161010T210000
DTEND:20161010T230000
SUMMARY:Manje zlo
LOCATION:Kino Tuškanac
DESCRIPTION:Mniejsze zło, Poljska, 2009 R: Janusz Morgenstern
END:VEVENT
END:VCALENDAR