BEGIN:VCALENDAR
VERSION:2.0
PRODID:-//Kino Tuškanac//Filmski programi//HR
BEGIN:VEVENT
UID:2dcd82454a6baf69e96bda8041c2208c@kinotuskanac.hr
DTSTAMP:20260422T141043Z
DTSTART:20161024T193000
DTEND:20161024T213000
SUMMARY:Intimne priče
LOCATION:Kino Tuškanac
DESCRIPTION:Historias Mínimas, Argentina, 2002 R: Carlos Sorín
END:VEVENT
END:VCALENDAR