BEGIN:VCALENDAR
VERSION:2.0
PRODID:-//Kino Tuškanac//Filmski programi//HR
BEGIN:VEVENT
UID:2bf2b8f84a9c019fe6e8320dfac070bc@kinotuskanac.hr
DTSTAMP:20260422T141726Z
DTSTART:20161025T190000
DTEND:20161025T210000
SUMMARY:Intimne priče
LOCATION:Kino Tuškanac
DESCRIPTION:Historias Mínimas, Argentina, 2002 R: Carlos Sorín
END:VEVENT
END:VCALENDAR