BEGIN:VCALENDAR
VERSION:2.0
PRODID:-//Kino Tuškanac//Filmski programi//HR
BEGIN:VEVENT
UID:392a554ff8bef0968594f152547d5093@kinotuskanac.hr
DTSTAMP:20260422T180938Z
DTSTART:20161025T210000
DTEND:20161025T230000
SUMMARY:Njemački doktor
LOCATION:Kino Tuškanac
DESCRIPTION:Wakolda, Argentina, 2013 R: Lucía Puenzo
END:VEVENT
END:VCALENDAR