BEGIN:VCALENDAR
VERSION:2.0
PRODID:-//Kino Tuškanac//Filmski programi//HR
BEGIN:VEVENT
UID:c3c06cf4d6c10a0ee98cd6b728233835@kinotuskanac.hr
DTSTAMP:20260422T180845Z
DTSTART:20161026T190000
DTEND:20161026T210000
SUMMARY:Njemački doktor
LOCATION:Kino Tuškanac
DESCRIPTION:Wakolda, Argentina, 2013 R: Lucía Puenzo
END:VEVENT
END:VCALENDAR