BEGIN:VCALENDAR
VERSION:2.0
PRODID:-//Kino Tuškanac//Filmski programi//HR
BEGIN:VEVENT
UID:b67a5f865bf8c70406e7cbc7c0e82808@kinotuskanac.hr
DTSTAMP:20260422T140647Z
DTSTART:20161026T210000
DTEND:20161026T230000
SUMMARY:Liverpool
LOCATION:Kino Tuškanac
DESCRIPTION:Argentina, 2008 R: Lisandro Alonso
END:VEVENT
END:VCALENDAR