BEGIN:VCALENDAR
VERSION:2.0
PRODID:-//Kino Tuškanac//Filmski programi//HR
BEGIN:VEVENT
UID:7310fd9baf9c752d9984d738a51a1de9@kinotuskanac.hr
DTSTAMP:20260422T123252Z
DTSTART:20161027T190000
DTEND:20161027T210000
SUMMARY:Liverpool
LOCATION:Kino Tuškanac
DESCRIPTION:Argentina, 2008 R: Lisandro Alonso
END:VEVENT
END:VCALENDAR